BEGIN:VCALENDAR
VERSION:2.0
PRODID:-//Taï Chi Montlouis - ECPv6.15.18//NONSGML v1.0//EN
CALSCALE:GREGORIAN
METHOD:PUBLISH
X-WR-CALNAME:Taï Chi Montlouis
X-ORIGINAL-URL:https://taichimontlouis.fr
X-WR-CALDESC:Évènements pour Taï Chi Montlouis
REFRESH-INTERVAL;VALUE=DURATION:PT1H
X-Robots-Tag:noindex
X-PUBLISHED-TTL:PT1H
BEGIN:VTIMEZONE
TZID:Europe/Paris
BEGIN:DAYLIGHT
TZOFFSETFROM:+0100
TZOFFSETTO:+0200
TZNAME:CEST
DTSTART:20250330T010000
END:DAYLIGHT
BEGIN:STANDARD
TZOFFSETFROM:+0200
TZOFFSETTO:+0100
TZNAME:CET
DTSTART:20251026T010000
END:STANDARD
BEGIN:DAYLIGHT
TZOFFSETFROM:+0100
TZOFFSETTO:+0200
TZNAME:CEST
DTSTART:20260329T010000
END:DAYLIGHT
BEGIN:STANDARD
TZOFFSETFROM:+0200
TZOFFSETTO:+0100
TZNAME:CET
DTSTART:20261025T010000
END:STANDARD
BEGIN:DAYLIGHT
TZOFFSETFROM:+0100
TZOFFSETTO:+0200
TZNAME:CEST
DTSTART:20270328T010000
END:DAYLIGHT
BEGIN:STANDARD
TZOFFSETFROM:+0200
TZOFFSETTO:+0100
TZNAME:CET
DTSTART:20271031T010000
END:STANDARD
END:VTIMEZONE
BEGIN:VEVENT
DTSTART;TZID=Europe/Paris:20260621T130000
DTEND;TZID=Europe/Paris:20260621T190000
DTSTAMP:20260420T205745
CREATED:20251110T171225Z
LAST-MODIFIED:20260213T190515Z
UID:2832-1782046800-1782068400@taichimontlouis.fr
SUMMARY:Passage de Duan 1/2 et ATT 1 - 2026
DESCRIPTION:Le Comité FFAEMC Région Centre Val de Loire organise chaque année un passage de duan 1 et 2 régionaux en juin\, en accueillant candidats et jurys à Orléans. \n\nLa FFAEMC a reçu par arrêté du 7 avril 2022 la délégation du Ministère pour le wushu\, les arts énergétiques chinois (AEC)\, les arts martiaux chinois internes (AMCI) et pour les arts martiaux chinois externes (AMCX). Depuis cette date\, la FFAEMC est la seule fédération pouvant délivrer des duan reconnus par l’État pour ces disciplines. \nLa FFAEMC propose différents passages de duan. \nPour les duan 1 et 2\, des passages de duan régionaux ont lieu au sein comité régional. \n\n\nLe passage de Duan aura lieu le Dimanche 21 Juin 2026 à Orléans dans la salle\nd’Arts Martiaux de la Madeleine \, 28 Allée Pierre Chevalier 45000 Orléans\,\nde 13h à 19h. Cette installation sportive est équipée d’une surface de 312 m².\n\n  \n  \n  \n  \nUne réunion d’information concernant les passages de duan 1/2 et Att1 organisés en région Centre Val de Loire aura lieu en distanciel (réunion zoom) le Samedi 7 Mars à 14h.Le lien de la réunion sera communiqué sur demande par mail (ffaemccentrevaldeloire@gmail.com).Vous pourrez poser toutes vos questions sur les épreuves\, le programme… \nVous pouvez vous rendre sur notre page les DUAN et les ATT pour déjà prendre connaissance des attendus
URL:https://taichimontlouis.fr/agenda/passages-de-duans-regionaux/
LOCATION:28 Allée Pierre Chevalier 45000 Orléans
END:VEVENT
END:VCALENDAR