BEGIN:VCALENDAR
VERSION:2.0
PRODID:-//Taï Chi Montlouis - ECPv6.15.18//NONSGML v1.0//EN
CALSCALE:GREGORIAN
METHOD:PUBLISH
X-ORIGINAL-URL:https://taichimontlouis.fr
X-WR-CALDESC:Évènements pour Taï Chi Montlouis
REFRESH-INTERVAL;VALUE=DURATION:PT1H
X-Robots-Tag:noindex
X-PUBLISHED-TTL:PT1H
BEGIN:VTIMEZONE
TZID:Europe/Paris
BEGIN:DAYLIGHT
TZOFFSETFROM:+0100
TZOFFSETTO:+0200
TZNAME:CEST
DTSTART:20250330T010000
END:DAYLIGHT
BEGIN:STANDARD
TZOFFSETFROM:+0200
TZOFFSETTO:+0100
TZNAME:CET
DTSTART:20251026T010000
END:STANDARD
BEGIN:DAYLIGHT
TZOFFSETFROM:+0100
TZOFFSETTO:+0200
TZNAME:CEST
DTSTART:20260329T010000
END:DAYLIGHT
BEGIN:STANDARD
TZOFFSETFROM:+0200
TZOFFSETTO:+0100
TZNAME:CET
DTSTART:20261025T010000
END:STANDARD
BEGIN:DAYLIGHT
TZOFFSETFROM:+0100
TZOFFSETTO:+0200
TZNAME:CEST
DTSTART:20270328T010000
END:DAYLIGHT
BEGIN:STANDARD
TZOFFSETFROM:+0200
TZOFFSETTO:+0100
TZNAME:CET
DTSTART:20271031T010000
END:STANDARD
END:VTIMEZONE
BEGIN:VEVENT
DTSTART;VALUE=DATE:20260530
DTEND;VALUE=DATE:20260601
DTSTAMP:20260420T002334
CREATED:20251106T140338Z
LAST-MODIFIED:20260320T202313Z
UID:2819-1780099200-1780271999@taichimontlouis.fr
SUMMARY:Souffles de Loire – Rencontres régionales d’arts martiaux et énergétiques chinois
DESCRIPTION:Les 30 et 31 mai 2026 se tiendront les premières rencontres régionales Souffles de Loire\, dans le magnifique cadre de Marmoutier à Tours.Cet événement se veut un temps fort placé sous le signe de la convivialité\, du partage et de la mutualisation des pratiques\, ouvert à toutes et tous. \nDurant tout le week-end\, pratiquants\, enseignants et curieux pourront se rencontrer\, échanger et pratiquer ensemble autour des arts martiaux et énergétiques chinois\, dans un esprit bienveillant et ludique. \n🕒 Horaires : \n\nSamedi 30 mai : de 14h00 à 17h30 (accueil à partir de 13h30)\nDimanche 31 mai : à partir de 9h30 (accueil dès 9h00)\n\nDisciplines proposées :Tai Chi Chuan · Wing Chun · Kung Fu · Bagua · Qi Gong · RoliBall … et bien d’autres découvertes. \n👉 Infos & inscriptions : site Comité régional CVL \nTarifs : gratuit pour les licenciés FFAEMC \n\nForfait Non Adhérents FFAEMC : \n\n15 € —- Forfait 1 ou 2 jours\n\n\n\nAdhérents FFAEMC \n\nGratuité sur les deux jours\n\n\n\nForfait Hébergement \n\n55.5 €\n\nCe forfait comprend diner du samedi soir\, petit déjeuner et déjeuner du dimanche au sein de l’institution ainsi qu’une nuit d’hébergement et le kit linge. votre chèque de réservation est à envoyer à Mme M. Beaudenon
URL:https://taichimontlouis.fr/agenda/souffles-de-loire/
LOCATION:Ancienne Abbaye de Marmoutier\, 72 Quai de Marmoutier\, Tours\, 37100\, France
END:VEVENT
BEGIN:VEVENT
DTSTART;TZID=Europe/Paris:20260621T130000
DTEND;TZID=Europe/Paris:20260621T190000
DTSTAMP:20260420T002334
CREATED:20251110T171225Z
LAST-MODIFIED:20260213T190515Z
UID:2832-1782046800-1782068400@taichimontlouis.fr
SUMMARY:Passage de Duan 1/2 et ATT 1 - 2026
DESCRIPTION:Le Comité FFAEMC Région Centre Val de Loire organise chaque année un passage de duan 1 et 2 régionaux en juin\, en accueillant candidats et jurys à Orléans. \n\nLa FFAEMC a reçu par arrêté du 7 avril 2022 la délégation du Ministère pour le wushu\, les arts énergétiques chinois (AEC)\, les arts martiaux chinois internes (AMCI) et pour les arts martiaux chinois externes (AMCX). Depuis cette date\, la FFAEMC est la seule fédération pouvant délivrer des duan reconnus par l’État pour ces disciplines. \nLa FFAEMC propose différents passages de duan. \nPour les duan 1 et 2\, des passages de duan régionaux ont lieu au sein comité régional. \n\n\nLe passage de Duan aura lieu le Dimanche 21 Juin 2026 à Orléans dans la salle\nd’Arts Martiaux de la Madeleine \, 28 Allée Pierre Chevalier 45000 Orléans\,\nde 13h à 19h. Cette installation sportive est équipée d’une surface de 312 m².\n\n  \n  \n  \n  \nUne réunion d’information concernant les passages de duan 1/2 et Att1 organisés en région Centre Val de Loire aura lieu en distanciel (réunion zoom) le Samedi 7 Mars à 14h.Le lien de la réunion sera communiqué sur demande par mail (ffaemccentrevaldeloire@gmail.com).Vous pourrez poser toutes vos questions sur les épreuves\, le programme… \nVous pouvez vous rendre sur notre page les DUAN et les ATT pour déjà prendre connaissance des attendus
URL:https://taichimontlouis.fr/agenda/passages-de-duans-regionaux/
LOCATION:28 Allée Pierre Chevalier 45000 Orléans
END:VEVENT
BEGIN:VEVENT
DTSTART;TZID=Europe/Paris:20260703T193000
DTEND;TZID=Europe/Paris:20260703T203000
DTSTAMP:20260420T002334
CREATED:20260406T133446Z
LAST-MODIFIED:20260406T133550Z
UID:2968-1783107000-1783110600@taichimontlouis.fr
SUMMARY:Guinguette estivale de La Passerelle - Atelier découverte taï-chi-chuan
DESCRIPTION:Atelier de découverte du taï-chi-chuan de 19h30 à 20h30 \nhttps://www.ville-montlouis-loire.fr/agenda/guinguette-estivale-de-la-passerelle/
URL:https://taichimontlouis.fr/agenda/guinguette-estivale-de-la-passerelle-atelier-decouverte-tai-chi-chuan/
LOCATION:14 Av. d’Appenweier\, 37270 Montlouis-sur-Loire\, 14\, Avenue d'Appenweier\, Montlouis-sur-Loire\, 37270\, France
END:VEVENT
END:VCALENDAR