BEGIN:VCALENDAR
VERSION:2.0
PRODID:-//Taï Chi Montlouis - ECPv6.15.18//NONSGML v1.0//EN
CALSCALE:GREGORIAN
METHOD:PUBLISH
X-ORIGINAL-URL:https://taichimontlouis.fr
X-WR-CALDESC:Évènements pour Taï Chi Montlouis
REFRESH-INTERVAL;VALUE=DURATION:PT1H
X-Robots-Tag:noindex
X-PUBLISHED-TTL:PT1H
BEGIN:VTIMEZONE
TZID:Europe/Paris
BEGIN:DAYLIGHT
TZOFFSETFROM:+0100
TZOFFSETTO:+0200
TZNAME:CEST
DTSTART:20250330T010000
END:DAYLIGHT
BEGIN:STANDARD
TZOFFSETFROM:+0200
TZOFFSETTO:+0100
TZNAME:CET
DTSTART:20251026T010000
END:STANDARD
BEGIN:DAYLIGHT
TZOFFSETFROM:+0100
TZOFFSETTO:+0200
TZNAME:CEST
DTSTART:20260329T010000
END:DAYLIGHT
BEGIN:STANDARD
TZOFFSETFROM:+0200
TZOFFSETTO:+0100
TZNAME:CET
DTSTART:20261025T010000
END:STANDARD
BEGIN:DAYLIGHT
TZOFFSETFROM:+0100
TZOFFSETTO:+0200
TZNAME:CEST
DTSTART:20270328T010000
END:DAYLIGHT
BEGIN:STANDARD
TZOFFSETFROM:+0200
TZOFFSETTO:+0100
TZNAME:CET
DTSTART:20271031T010000
END:STANDARD
END:VTIMEZONE
BEGIN:VEVENT
DTSTART;TZID=Europe/Paris:20260315T090000
DTEND;TZID=Europe/Paris:20260315T170000
DTSTAMP:20260420T170332
CREATED:20251106T144442Z
LAST-MODIFIED:20260219T104604Z
UID:2822-1773565200-1773594000@taichimontlouis.fr
SUMMARY:Une journée avec maître Kenji Tokitsu
DESCRIPTION:Dimanche 15 mars 2026 – Montlouis-sur-Loire \nNous avons l’honneur d’accueillir Maître Kenji Tokitsu\, expert internationalement reconnu dans le domaine des arts martiaux internes et des pratiques corporelles énergétiques\, pour une journée de stage ouverte à tous. \nCe stage est une occasion rare d’approfondir ou de découvrir l’enseignement de Maître Tokitsu\, fondé sur une recherche approfondie du corps\, du mouvement et de l’énergie\, à la croisée des traditions martiales et du développement personnel. \n \n\nContenu du stage\nLe stage portera sur trois disciplines complémentaires : \nJisei Taï-Chi Chuan\nUne forme de taï-chi développée par Maître Tokitsu\, axée sur la conscience corporelle\, l’alignement\, la fluidité du mouvement et la circulation de l’énergie. Cette pratique favorise à la fois la santé\, l’équilibre postural et l’efficacité martiale. \nJisei Kiko\nTravail énergétique basé sur la respiration\, la posture et la détente profonde. Le Jisei Kiko permet de renforcer la vitalité\, d’améliorer la gestion du stress et de développer une meilleure présence à soi. \nY Chuan (Yi Quan)\nArt martial interne centré sur le travail postural\, la perception interne et la puissance issue de la structure du corps. Le Y Chuan développe la stabilité\, la force naturelle et la coordination. \n\nÀ qui s’adresse ce stage ?\nCe stage est ouvert à tous\, sans prérequis : \n\npratiquants d’arts martiaux ou d’arts internes\,\nenseignants et instructeurs\,\ndébutants curieux de découvrir ces disciplines\,\ntoute personne intéressée par le travail du corps\, de l’énergie et du mouvement.\n\nChaque participant pourra progresser à son rythme\, quel que soit son niveau. \n\nObjectifs du stage\n\nApprofondir la conscience corporelle\nAméliorer la posture et la coordination\nDévelopper la détente\, la respiration et l’énergie\nDécouvrir une approche globale reliant santé\, bien-être et efficacité martiale\nBénéficier de l’enseignement direct d’un maître de renommée internationale\n\n\nInformations pratiques\n📅 Date : Dimanche 15 mars 2026📍 Lieu : Complexe sportif Léo Lagrange – Montlouis-sur-Loire⏰ Horaires : 10h-17h (pause méridienne 12h30-14h00)👥 Public : Ouvert à tous🎟️ Inscriptions : en ligne via HelloAsso \nProgramme de la journée\n09:30 – 10:00 : Accueil des participants10:00 – 12:30 : Stage12:30 – 14:00 : Pause déjeuner*14:00 – 16:30 : Stage16:30 – 17:00 : Clôture du stage17:30 : Fermeture du gymnase \nPause déjeuner\nPossibilité de déjeuner sur place. \nUn plateau repas peut être commandé lors de votre inscription (avant le mercredi 11 mars)\, préparé et livré par le restaurant-traiteur « Le Petit Tonneau ». \nDeux menus au choix.Tarif : 12 € (pain compris\, livraison offerte). \nLes repas sont servis dans des boîtes en verre avec couverts en « dur » (à rendre propres – possibilité de faire la vaisselle sur place). \n Matériel individuel à prévoir\n\nVêtements chauds et confortables. La température du gymnase est en effet réglée à environ 16°C.\n\nNous vous conseillons notamment : un sweat ou une veste de survêtement. Cela vous permettra de pratiquer dans de bonnes conditions de confort tout au long de la journée.\n\n\nGobelet réutilisable\nChaussures adaptées à une utilisation en salle\nGourde ou bouteille d’eau\nDe quoi prendre des notes (éventuellement)\n\n Accès – Venir à Montlouis-sur-Loire\nDepuis Paris / Orléans (en voiture) : \n\nAutoroute A10 direction Bordeaux\nSortie “Tours / Saint-Pierre-des-Corps” (environ 20 km après le péage)\nPrendre à droite vers le rond-point\, puis 1ère à droite (“la levée”) direction Amboise\nÀ Montlouis\, place Courtemanche :\n\nTourner à droite avant le parking (route en lacet)\nEn haut\, tourner à gauche puis 2e à droite\nTout droit sur 3 ronds-points\nAu 3e rond-point\, tourner à droite et se garer (gymnase sur la droite)\n\n\n\n🚗 Covoiturage\nAfin de faciliter l’organisation des déplacements pour le stage\, un espace de covoiturage a été mis en place via Caroster. \nParticipants\, clubs et accompagnants peuvent y proposer un trajet ou rechercher une place disponible. \n👉 Accéder à l’espace de covoiturage :[LIEN CAROSTER] \nNous vous encourageons à privilégier cette solution conviviale et responsable. \n🚅Gares SNCF les plus proches : \nLe stage est accessible en train depuis Paris. \n\nGare la plus proche : Montlouis-sur-Loire (préférable)\nAlternative : Saint-Pierre-des-Corps\n\nDes liaisons régulières existent entre Paris Montparnasse et Saint-Pierre-des-Corps (environ 1h)\, puis une correspondance TER de 5 à 7 minutes permet de rejoindre Montlouis-sur-Loire. \n🕘 Arrivée conseillée à Montlouis : entre 09h00 et 09h30🕠 Départ conseillé pour le retour : après 17h30 \nAccès depuis la gare de Montlouis-sur-Loire :Le Complexe sportif Léo Lagrange se situe à environ 2 km de la gare (7 Rue Pierre Maître)\, soit 25 à 35 minutes à pied. \n Trains (à confirmer)\nAller – dimanche matin : \n\nDépart Paris-Montparnasse 7h52 → Arrivée Saint-Pierre-des-Corps 9h03 (OUIGO)\n\nRetour – dimanche soir : \n\nDépart Saint-Pierre-des-Corps 18h56 → Arrivée Paris-Montparnasse 20h17\n\n\nÀ propos de Maître Kenji Tokitsu\nMaître Kenji Tokitsu est docteur en sociologie\, chercheur\, enseignant et expert reconnu des arts martiaux internes et externes. Fondateur de la méthode Jisei-do et de l’Académie internationale Tokitsu-ryu\, il est l’auteur de nombreux ouvrages de référence et enseigne depuis plusieurs décennies en Europe et au Japon. Son approche unique allie rigueur scientifique\, tradition martiale et recherche du bien-être global. \nEncadrement du stage\nMaître Kenji Tokitsu sera assisté de : \nJean-Emmanuel Grosset-Granche8e Dan de Jisei-Budo & 7e Dan de karaté (FFK)Enseignant reconnu\, il accompagne Maître Tokitsu depuis de nombreuses années dans la transmission de la méthode Tokitsu-ryu. \nEric BénardCQP moniteur d’arts martiaux chinois internes et externes4e Dan de Jisei Taï-Chi Chuan & 3e Duan de Taï-Chi Chuan (FFAEMC) \nIls assureront un encadrement de qualité tout au long de la journée\, garantissant un suivi attentif et adapté à tous les niveaux. \n\nInscriptions\nTarifs\n\nTarif public :\n\n50 € la journée\n30 € la demi-journée (matin uniquement)\n\n\nTarifs réduits :\n\nPour les adhérents des associations Jiseido Joué-les-Tours\, École de l’Énergie Martiale & Taï-Chi Montlouis(codes promo transmis par mail)\n\n\n\nLes inscriptions se font directement en ligne via notre plateforme HelloAsso.👉 Lien d’inscription ici : \n\nUn rendez-vous exceptionnel pour approfondir votre pratique\, explorer de nouvelles sensations corporelles et vivre une expérience enrichissante au contact d’un grand maître. 🙏 \n  \n 
URL:https://taichimontlouis.fr/agenda/stage-avec-me-k-tokitsu-15-mars-taichi-chuan-kiko/
LOCATION:14 Av. d’Appenweier\, 37270 Montlouis-sur-Loire\, 14\, Avenue d'Appenweier\, Montlouis-sur-Loire\, 37270\, France
END:VEVENT
END:VCALENDAR