BEGIN:VCALENDAR
VERSION:2.0
PRODID:-//Taï Chi Montlouis - ECPv6.15.18//NONSGML v1.0//EN
CALSCALE:GREGORIAN
METHOD:PUBLISH
X-WR-CALNAME:Taï Chi Montlouis
X-ORIGINAL-URL:https://taichimontlouis.fr
X-WR-CALDESC:Évènements pour Taï Chi Montlouis
REFRESH-INTERVAL;VALUE=DURATION:PT1H
X-Robots-Tag:noindex
X-PUBLISHED-TTL:PT1H
BEGIN:VTIMEZONE
TZID:Europe/Paris
BEGIN:DAYLIGHT
TZOFFSETFROM:+0100
TZOFFSETTO:+0200
TZNAME:CEST
DTSTART:20250330T010000
END:DAYLIGHT
BEGIN:STANDARD
TZOFFSETFROM:+0200
TZOFFSETTO:+0100
TZNAME:CET
DTSTART:20251026T010000
END:STANDARD
BEGIN:DAYLIGHT
TZOFFSETFROM:+0100
TZOFFSETTO:+0200
TZNAME:CEST
DTSTART:20260329T010000
END:DAYLIGHT
BEGIN:STANDARD
TZOFFSETFROM:+0200
TZOFFSETTO:+0100
TZNAME:CET
DTSTART:20261025T010000
END:STANDARD
BEGIN:DAYLIGHT
TZOFFSETFROM:+0100
TZOFFSETTO:+0200
TZNAME:CEST
DTSTART:20270328T010000
END:DAYLIGHT
BEGIN:STANDARD
TZOFFSETFROM:+0200
TZOFFSETTO:+0100
TZNAME:CET
DTSTART:20271031T010000
END:STANDARD
END:VTIMEZONE
BEGIN:VEVENT
DTSTART;TZID=Europe/Paris:20260215T093000
DTEND;TZID=Europe/Paris:20260215T170000
DTSTAMP:20260421T022944
CREATED:20251027T165322Z
LAST-MODIFIED:20260218T150124Z
UID:2794-1771147800-1771174800@taichimontlouis.fr
SUMMARY:Stage Energétique chinoise et mouvement avec Florence CHOFFRUT
DESCRIPTION:ORGANISATEURS :\n\nTAI-CHI MONTLOUIS (37270 Montlouis-sur-Loire)\nTOUM SUD LOIRE (44140 Le Bignon)\nTAI CHI A BAIS (35680 Bais)\n\n     \n🌿 Thème du stage\nMise en situation et application pratique des points liés aux méridiens extraordinairesObjectif : développer des mouvements plus fluides et relâchés\, en recherchant l’efficacité sans recours excessif à la force musculaire. \nEn s’appuyant sur les points en relations avec les méridiens extraordinaires\, permettre par la\nthéorie\, la pratique et les mises en situation de rechercher le relâchement et la fluidité des mouvements\,\net ainsi minimiser le plus possible l’utilisation de la force musculaire \n\n👩‍🏫 Enseignante invitée : Florence CHOFFRUT\n\n\nDiplômée d’État (DEJEPS-AMCI) \n\n\n5e duan en Arts Martiaux Chinois Internes \n\n\nPlusieurs fois médaillée (forme lente\, épée\, sabre…) \n\n\nFormatrice en Physiologie Énergétique Chinoise pour la FFAEMC \n\n\n\n🕘 Horaires\n\nAccueil : 9h00 (horaires ajustés selon les arrivées de train – arrivée de Paris à 8h34 à Saint-Pierre-des-Corps)\nStage : 9h30–12h30 / 14h00–17h00\n\n\n💧 Matériel individuel à prévoir\n\nGobelet réutilisable\nGourde ou bouteille d’eau\nChaussures adaptées à une salle de danse\nTenue confortable\nDe quoi prendre des notes\n\n\n💰 Tarif : 40 €                                      JE M’INSCRIS ICI !\n\n👉 Nombre de places limité à 18 participants \nPublic cible : Pratiquants confirmés du mouvement et enseignants de Taïchi Chuan.\n18 inscrits maximum : les inscriptions sont prises en compte par ordre d’arrivée\,\no Au‐delà de 18 stagiaires\, nous ouvrirons une liste d’attente. Vous en serez informé par mail\no Dans le cas d’une liste d’attente suffisante\, nous envisageons d’organiser ultérieurement\nune nouvelle session de ce stage. Vous serez alors recontacté. \nDéjeuner : il se déroulera sur place\, quelques tables seront installées.\nVous pouvez\, soit:\no Commander un repas qui sera livré sur place (voir rubrique suivante « Paiement »)\no Apporter votre pique‐nique\, \nPAIEMENT :\nLe paiement s’effectue à votre arrivée sur site\, par chèque(s) ou en espèces (pas de CB). \n\nUn chèque de 40€ (ou espèces) pour le prix du stage à l’ordre de Toum Sud Loire\nUn 2ème chèque si vous choisissez le repas livré (dans le formulaire d’inscription)\no A l’ordre de Paul Meunier\no Montant :\n9\,90 € : sandwich (végé ou non) + boisson + dessert\n10\,90 : salade complète (non végé + boisson + dessert\n\n🚗 Accès – Venir à Montlouis-sur-Loire\nDepuis Paris / Orléans (en voiture) : \n\nAutoroute A10 direction Bordeaux\nSortie “Tours / Saint-Pierre-des-Corps” (environ 20 km après le péage)\nPrendre à droite vers le rond-point\, puis 1ère à droite (“la levée”) direction Amboise\nÀ Montlouis\, place Courtemanche :\n\nTourner à droite avant le parking (route en lacet)\nEn haut\, tourner à gauche puis 2e à droite\nTout droit sur 3 ronds-points\nAu 3e rond-point\, tourner à droite et se garer (gymnase sur la droite)\n\n\n\nGares les plus proches : \n\nMontlouis-sur-Loire (≠ Veretz/Montlouis) – 15 min depuis Tours\nSaint-Pierre-des-Corps – 15 min en voiture du lieu du stage\n\n\n🚆 Trains (à confirmer avant le 16/11)\nAller – dimanche matin : \n\n\nDépart Paris-Montparnasse 7h30 → Arrivée Saint-Pierre-des-Corps 8h34 \n\n\nRetour – dimanche soir : \n\n\nDépart Saint-Pierre-des-Corps 18h56 → Arrivée Massy-TGV 19h47 \n\n\nou Départ 19h05 → Arrivée Montparnasse 20h11 \n\n\nAutres options : \n\n\nBlablacar (arrêt possible à Montlouis) \n\n\nBus jusqu’à Tours
URL:https://taichimontlouis.fr/agenda/stage-energetique-chinoise-et-mouvement/
END:VEVENT
END:VCALENDAR