BEGIN:VCALENDAR
VERSION:2.0
PRODID:-//Taï Chi Montlouis - ECPv6.15.18//NONSGML v1.0//EN
CALSCALE:GREGORIAN
METHOD:PUBLISH
X-ORIGINAL-URL:https://taichimontlouis.fr
X-WR-CALDESC:Évènements pour Taï Chi Montlouis
REFRESH-INTERVAL;VALUE=DURATION:PT1H
X-Robots-Tag:noindex
X-PUBLISHED-TTL:PT1H
BEGIN:VTIMEZONE
TZID:Europe/Paris
BEGIN:DAYLIGHT
TZOFFSETFROM:+0100
TZOFFSETTO:+0200
TZNAME:CEST
DTSTART:20250330T010000
END:DAYLIGHT
BEGIN:STANDARD
TZOFFSETFROM:+0200
TZOFFSETTO:+0100
TZNAME:CET
DTSTART:20251026T010000
END:STANDARD
BEGIN:DAYLIGHT
TZOFFSETFROM:+0100
TZOFFSETTO:+0200
TZNAME:CEST
DTSTART:20260329T010000
END:DAYLIGHT
BEGIN:STANDARD
TZOFFSETFROM:+0200
TZOFFSETTO:+0100
TZNAME:CET
DTSTART:20261025T010000
END:STANDARD
BEGIN:DAYLIGHT
TZOFFSETFROM:+0100
TZOFFSETTO:+0200
TZNAME:CEST
DTSTART:20270328T010000
END:DAYLIGHT
BEGIN:STANDARD
TZOFFSETFROM:+0200
TZOFFSETTO:+0100
TZNAME:CET
DTSTART:20271031T010000
END:STANDARD
END:VTIMEZONE
BEGIN:VEVENT
DTSTART;TZID=Europe/Paris:20260205T190000
DTEND;TZID=Europe/Paris:20260205T200000
DTSTAMP:20260421T024103
CREATED:20260204T181241Z
LAST-MODIFIED:20260204T181241Z
UID:2927-1770318000-1770321600@taichimontlouis.fr
SUMMARY:Conférence en ligne FFAEMC : Le Taichi Chuan : ralentir pour entrer en résonance
DESCRIPTION:Le Taichi Chuan : ralentir pour entrer en résonance par Eric Caulier\n\nConférence en ligne animée par Eric Caulier\nDate : le jeudi 5 février de 19h à 20h00 \nEn visioconférence (Zoom) \nDescription de la conférence\nCette pratique chinoise\, reconnue en 2020 comme patrimoine culturel immatériel de l’humanité\, bien au-delà de simples techniques de bien-être\, constitue un art de vie intégrant l’art martial interne\, la sagesse pratique et la méditation en mouvement. Cette conférence explore comment le ralentissement conscient et délibéré\, loin d’être une fuite\, opère une recalibration profonde de notre rapport au temps\, permettant une densification de l’expérience vécue. \nL’exposé chemine progressivement de la pratique de soi – par la réorientation perceptive et l’apprentissage d’un corps sensible – vers l’empathie avec l’autre\, incarnée dans la pratique des mains collantes\, puis à la résonance avec le monde. C’est un voyage qui révèle comment cette discipline ancestrale relie le corps et l’esprit\, la théorie et la pratique\, l’individu et son environnement. \n-> S’inscrire <- \nNB : Les conférences en ligne de la FFAEMC se tiennent sur Zoom. Un lien de connexion vous sera transmis deux heures avant le début. Le replay est ensuite envoyé le lundi suivant la conférence\, et reste accessible pendant 14 jours. \nÀ propos du conférencier Eric Caulier  \nEric Caulier\, docteur en anthropologie\, diplômé de l’Université d’Éducation Physique de Pékin en arts internes\, est professeur de Ta (6e duan). Auteur de plus de vingt ouvrages\, il a mis de nombreux supports pédagogiques en accès libre :  \nArchive Eric Caulier \nSon parcours singulier conjugue rigueur méthodologique et engagement existentiel\, explorant comment les principes des arts internes chinois éclairent les défis du monde contemporain. 
URL:https://taichimontlouis.fr/agenda/conference-en-ligne-ffaemc-le-taichi-chuan-ralentir-pour-entrer-en-resonance/
LOCATION:Plateforme Zoom\, France
END:VEVENT
END:VCALENDAR